BEGIN:VCALENDAR
VERSION:2.0
PRODID:-//pretix//pretix.eu//
BEGIN:VEVENT
UID:pretix-dks-loerrach-Pfingsten-26-4829124@ticket.kaltenbach-stiftung.de
DTSTART;VALUE=DATE:20260601
DTEND;VALUE=DATE:20260604
DESCRIPTION:Tickets: https://ticket.kaltenbach-stiftung.de/Pfingsten-26/482
 9124/\nVeranstalter: Dieter-Kaltenbach-Stiftung
DTSTAMP:20260422T135835Z
LOCATION:Kaltenbach Stiftung\, Konrad-Adenauer Straße 22\, 79540 Lörrach
SUMMARY:2.Pfingstwoche 2026
END:VEVENT
END:VCALENDAR
