BEGIN:VCALENDAR
VERSION:2.0
PRODID:-//pretix//pretix.eu//
BEGIN:VEVENT
UID:pretix-dks-loerrach-Pfingsten-26-4829122@ticket.kaltenbach-stiftung.de
DTSTART;VALUE=DATE:20260526
DTEND;VALUE=DATE:20260530
DESCRIPTION:Tickets: https://ticket.kaltenbach-stiftung.de/Pfingsten-26/482
 9122/\nVeranstalter: Dieter-Kaltenbach-Stiftung
DTSTAMP:20260422T155335Z
LOCATION:Kaltenbach Stiftung\, Konrad-Adenauer Straße 22\, 79540 Lörrach
SUMMARY:1.Pfingstwoche 2026
END:VEVENT
END:VCALENDAR
